BEGIN:VCALENDAR
VERSION:2.0
PRODID:-//#TheClassicalExperience - ECPv6.15.20//NONSGML v1.0//EN
CALSCALE:GREGORIAN
METHOD:PUBLISH
X-WR-CALNAME:#TheClassicalExperience
X-ORIGINAL-URL:https://theclassicalexperience.com
X-WR-CALDESC:Eventi per #TheClassicalExperience
REFRESH-INTERVAL;VALUE=DURATION:PT1H
X-Robots-Tag:noindex
X-PUBLISHED-TTL:PT1H
BEGIN:VTIMEZONE
TZID:Europe/Rome
BEGIN:DAYLIGHT
TZOFFSETFROM:+0100
TZOFFSETTO:+0200
TZNAME:CEST
DTSTART:20190331T010000
END:DAYLIGHT
BEGIN:STANDARD
TZOFFSETFROM:+0200
TZOFFSETTO:+0100
TZNAME:CET
DTSTART:20191027T010000
END:STANDARD
BEGIN:DAYLIGHT
TZOFFSETFROM:+0100
TZOFFSETTO:+0200
TZNAME:CEST
DTSTART:20200329T010000
END:DAYLIGHT
BEGIN:STANDARD
TZOFFSETFROM:+0200
TZOFFSETTO:+0100
TZNAME:CET
DTSTART:20201025T010000
END:STANDARD
BEGIN:DAYLIGHT
TZOFFSETFROM:+0100
TZOFFSETTO:+0200
TZNAME:CEST
DTSTART:20210328T010000
END:DAYLIGHT
BEGIN:STANDARD
TZOFFSETFROM:+0200
TZOFFSETTO:+0100
TZNAME:CET
DTSTART:20211031T010000
END:STANDARD
BEGIN:DAYLIGHT
TZOFFSETFROM:+0100
TZOFFSETTO:+0200
TZNAME:CEST
DTSTART:20220327T010000
END:DAYLIGHT
BEGIN:STANDARD
TZOFFSETFROM:+0200
TZOFFSETTO:+0100
TZNAME:CET
DTSTART:20221030T010000
END:STANDARD
END:VTIMEZONE
BEGIN:VEVENT
DTSTART;TZID=Europe/Rome:20210925T210000
DTEND;TZID=Europe/Rome:20210925T210000
DTSTAMP:20260421T215447
CREATED:20220226T143754Z
LAST-MODIFIED:20220226T143755Z
UID:366-1632603600-1632603600@theclassicalexperience.com
SUMMARY:Concerto sotto le stelle
DESCRIPTION:Silent Concert in un giardino Liberty \n\n\n\n\n\nUna playlist dedicata all’aria aperta\, un concerto da ascoltare in cuffia\, passeggiando nel parco o ai tavolini ai piedi dell’orchestra. Dalle Stagioni di Vivaldi e Piazzolla a Autumn Leaves e Moon River: la natura tradotta in musica dai più grandi autori classici\, jazz\, e moderni. \n\n\n\nOrchestra Milano Classicain collaborazione con Yamaha Music Europe – branch Italy \n\n\n\n\n\n\n\nA. VivaldiDal Concerto RV 315 “L’estate”: Presto (Temporale)A. PiazzollaVerano PorteñoViolino solista: Eleonora MatsunoKosma/T.TakemitsuAutumn LeavesP. I. TchaikovskyAndante Cantabile per cello e archiVioloncello solista: Cosimo CarovaniL. ArmstrongWhat a wonderful worldF. Schubert/C. Colnot4 Lieder per archi“Il cacciatore” (da Die schöne Müllerin)\, “Lacrime ghiacciate” (da Die Winterreise)“Serenata” e “Addio” (da Schwanengesang)J. SibeliusImpromptu Op. 5 per archiA.A.V.V.Moon Suite(Clair de lune\, Moon River\, Fly me to the moon\, Blue Moon)
URL:https://theclassicalexperience.com/eventi/concerto-sotto-le-stelle/
LOCATION:Palazzina Liberty\, Largo Marinai d'Italia\, 1\, Milano\, 20135\, Italy
CATEGORIES:#TheClassicalExperience
ORGANIZER;CN="Milano Classica":MAILTO:info@milanoclassica.it
END:VEVENT
BEGIN:VEVENT
DTSTART;TZID=Europe/Rome:20200208T170000
DTEND;TZID=Europe/Rome:20200208T170000
DTSTAMP:20260421T215447
CREATED:20220223T165951Z
LAST-MODIFIED:20220226T085216Z
UID:152-1581181200-1581181200@theclassicalexperience.com
SUMMARY:Sospiri romantici e reminiscenze arcaiche
DESCRIPTION:In collaborazione con Associazione Manifestare Opportunità \n\n\n\n\n\n\n\n\n\nLudovica Rana\, violoncello \n\n\n\nMaddalena Giacopuzzi\, pianoforte \n\n\n\nFRYDERYK CHOPIN (1810 – 1849) \n\n\n\nSonata in sol minore per violoncello e pianoforte op. 65 \n\n\n\nAllegro moderato \n\n\n\nScherzo: Allegro con brio \n\n\n\nLargo \n\n\n\nFinale: Allegro \n\n\n\nJOHANNES BRAHMS (1833 – 1897) \n\n\n\nSonata in fa maggiore per violoncello e pianoforte op. 99 \n\n\n\nAllegro vivace \n\n\n\nAdagio affettuoso \n\n\n\nAllegro passionato e Trio \n\n\n\nAllegro molto
URL:https://theclassicalexperience.com/eventi/sospiri-romantici-e-reminiscenze-arcaiche/
LOCATION:Palazzina Liberty\, Largo Marinai d'Italia\, 1\, Milano\, 20135\, Italy
CATEGORIES:#TheClassicalExperience,Young&Family
ATTACH;FMTTYPE=image/jpeg:https://theclassicalexperience.com/wp-content/uploads/sites/6/2022/02/Cover-2.jpg
END:VEVENT
BEGIN:VEVENT
DTSTART;TZID=Europe/Rome:20200124T210000
DTEND;TZID=Europe/Rome:20200124T210000
DTSTAMP:20260421T215447
CREATED:20220223T155948Z
LAST-MODIFIED:20220226T085322Z
UID:144-1579899600-1579899600@theclassicalexperience.com
SUMMARY:Crossover Fridays
DESCRIPTION:Remo Anzovino e David Cerquetti \n\n\n\n\n\nCrossover Fridays è un progetto unico e originale: sette artisti crossover di fama internazionale referenziati da Musicmedia e da Sony Classical Italia\, in collaborazione con sette professionisti dell’industria musicale e discografica italiana\, saranno i docenti di sette giovani e/o gruppi under35 selezionati dal Direttivo Artistico di Milano Classica. Da gennaio a giugno 2020 artisti e professionisti guideranno i giovani in un percorso formativo costituito da seminari e workshop percorrendo così un viaggio alla scoperta di cosa significhi intraprendere una carriera nel mondo musicale\, dall’ideazione del progetto alla sua realizzazione. Fondamentale sarà il contributo di Circuito Musica che li guiderà attraverso il mondo della comunicazione e della promozione. Gli appuntamenti si terranno presso la Palazzina Liberty di Milano e culmineranno con tre importanti iniziative: sette performance live\, l’incisione di un disco contente i progetti inediti dei partecipanti e la realizzazione di videoclip promozionali.
URL:https://theclassicalexperience.com/eventi/crossover-fridays/
LOCATION:Palazzina Liberty\, Largo Marinai d'Italia\, 1\, Milano\, 20135\, Italy
CATEGORIES:#TheClassicalExperience
ATTACH;FMTTYPE=image/jpeg:https://theclassicalexperience.com/wp-content/uploads/sites/6/2022/02/Instagram-Event-1.jpg
ORGANIZER;CN="Milano Classica":MAILTO:info@milanoclassica.it
END:VEVENT
BEGIN:VEVENT
DTSTART;TZID=Europe/Rome:20200122T213000
DTEND;TZID=Europe/Rome:20200123T000000
DTSTAMP:20260421T215447
CREATED:20200122T193035Z
LAST-MODIFIED:20220226T085419Z
UID:127-1579728600-1579737600@theclassicalexperience.com
SUMMARY:A Vienna con Theresia
DESCRIPTION:Theresia Orchesta è un progetto culturale e artistico unico a livello europeo. Fondata nel 2012\, l’orchestra promuove la crescita professionale di giovani musicisti\, fornendo loro l’opportunità di esibirsi in contesti prestigiosi e di approfondire le proprie conoscenze nell’ambito professionale e artistico. Theresia è un’iniziativa di Fondazione ICONS che sostiene il progetto di alto perfezionamento artistico attraverso l’erogazione di borse di studio biennali e si occupa della sua struttura artistica e organizzativa.In occasione del concerto\, l’ensemble\, diretto da Alfredo Bernardini\, eseguirà musiche di Antonio Salieri\, Franz Joseph Haydn e Wolfgang Amadeus Mozart.
URL:https://theclassicalexperience.com/eventi/a-vienna-con-theresia/
LOCATION:Palazzina Liberty\, Largo Marinai d'Italia\, 1\, Milano\, 20135\, Italy
CATEGORIES:#TheClassicalExperience
ATTACH;FMTTYPE=image/jpeg:https://theclassicalexperience.com/wp-content/uploads/sites/6/2022/02/Instagram-Event-Cover.jpeg
ORGANIZER;CN="Milano Classica":MAILTO:info@milanoclassica.it
END:VEVENT
BEGIN:VEVENT
DTSTART;TZID=Europe/Rome:20200119T183000
DTEND;TZID=Europe/Rome:20200119T183000
DTSTAMP:20260421T215447
CREATED:20220223T100836Z
LAST-MODIFIED:20220226T085545Z
UID:111-1579458600-1579458600@theclassicalexperience.com
SUMMARY:Art Film Music
DESCRIPTION:Il compositore italiano per la grande arte al cinema \n\n\n\n\n\nMusiche di R. Anzovino \n\n\n\nRemo Anzovino\, nuovo erede della grande tradizione italiana nella musica da film premiato con il Nastro D’Argento 2019 (Menzione Speciale Musica dell’Arte) e celebrato dalla stampa internazionale\, presenta le colonne sonore da lui scritte\, dirette e orchestrate per La Grande Arte al Cinema\, appena riunite in uno speciale cofanetto di 5 album in collaborazione con Sony Classical e Nexo Digital. ⁠Da “Hitler contro Picasso e gli altri” a “Frida. Viva La Vida”\, passando per “Van Gogh tra il grano e il cielo”\, “Le Ninfee di Monet” e “Gauguin a Tahiti”: uno straordinario progetto tra arte\, cinema e musica\, che si è completato alla fine di novembre con “Frida. Viva La Vida”\, il docu-film dedicato a Frida Kahlo.Nell’unicità del linguaggio del compositore italiano è stata riconosciuta l’importanza dell’aspetto musicale nel racconto\, la sua forza narrativa\, il talento per la melodia e l’intelligenza compositiva\, a tutti gli effetti co-protagonisti del successo planetario del progetto. \n\n\n\n\n\n\n\n⁠
URL:https://theclassicalexperience.com/eventi/art-film-music/
LOCATION:Palazzina Liberty\, Largo Marinai d'Italia\, 1\, Milano\, 20135\, Italy
CATEGORIES:#TheClassicalExperience
ATTACH;FMTTYPE=image/jpeg:https://theclassicalexperience.com/wp-content/uploads/sites/6/2022/02/art-film-music-4.jpg
END:VEVENT
END:VCALENDAR