BEGIN:VCALENDAR
VERSION:2.0
PRODID:-//#TheClassicalExperience - ECPv6.15.20//NONSGML v1.0//EN
CALSCALE:GREGORIAN
METHOD:PUBLISH
X-ORIGINAL-URL:https://theclassicalexperience.com
X-WR-CALDESC:Eventi per #TheClassicalExperience
REFRESH-INTERVAL;VALUE=DURATION:PT1H
X-Robots-Tag:noindex
X-PUBLISHED-TTL:PT1H
BEGIN:VTIMEZONE
TZID:Europe/Rome
BEGIN:DAYLIGHT
TZOFFSETFROM:+0100
TZOFFSETTO:+0200
TZNAME:CEST
DTSTART:20210328T010000
END:DAYLIGHT
BEGIN:STANDARD
TZOFFSETFROM:+0200
TZOFFSETTO:+0100
TZNAME:CET
DTSTART:20211031T010000
END:STANDARD
BEGIN:DAYLIGHT
TZOFFSETFROM:+0100
TZOFFSETTO:+0200
TZNAME:CEST
DTSTART:20220327T010000
END:DAYLIGHT
BEGIN:STANDARD
TZOFFSETFROM:+0200
TZOFFSETTO:+0100
TZNAME:CET
DTSTART:20221030T010000
END:STANDARD
BEGIN:DAYLIGHT
TZOFFSETFROM:+0100
TZOFFSETTO:+0200
TZNAME:CEST
DTSTART:20230326T010000
END:DAYLIGHT
BEGIN:STANDARD
TZOFFSETFROM:+0200
TZOFFSETTO:+0100
TZNAME:CET
DTSTART:20231029T010000
END:STANDARD
END:VTIMEZONE
BEGIN:VEVENT
DTSTART;TZID=Europe/Rome:20221128T210000
DTEND;TZID=Europe/Rome:20221128T230000
DTSTAMP:20260421T173812
CREATED:20221117T093927Z
LAST-MODIFIED:20221120T103035Z
UID:804-1669669200-1669676400@theclassicalexperience.com
SUMMARY:A night with Walt Disney
DESCRIPTION:Lunedì 28 Novembre alle h. 21.00 Milano Classica presenta A night with Walt Disney\, una speciale serata dedicata al magico mondo dei grandi classici Disney che da sempre hanno fatto sognare intere generazioni. Tra musica\, canto e narrazione\, i Solisti di Milano Classica (voce\, quintetto d’archi\, flauto\, clarinetto\, corno\, pianoforte e batteria) daranno vita ad un’indimenticabile serata piena di emozioni\, ricordando i personaggi che più ci hanno fatto sognare. \nDa bambini le abbiamo lette\, viste\, perfino interpretate. Ciascuno di noi ha sempre scelto un personaggio dei cartoni animati da portare nel cuore\, in cui immedesimarsi e lasciarsi anche un po’ guidare nelle scelte di tutti i giorni.\nTra i personaggi Disney femminili\, c’è davvero l’imbarazzo della scelta. Principesse di ogni tipologia\, da quelle coraggiose\, combattenti e disposte al sacrificio come Mulan\, a quelle sentimentali\, generose e piene di speranza come Cenerentola\, e perfino capaci di guardare oltre le apparenze\, come Belle che riesce a vedere la bellezza del suo principe anche se camuffato da Bestia. \nA condurci in questo fantastico mondo saranno i Solisti dell’Orchestra Milano Classica e la cantante Chiara Amati che fin da piccola ha sempre amato e interpretato le canzoni Disney. \nI grandi Classici Disney sono sinonimo di fantasia\, magia\, sogni ed emozioni vissuti da innumerevoli personaggi\, in mondi affascinanti e con colonne sonore che rimarranno scolpite nella memoria di tutti noi!\nNon perderti questo grandioso concerto! Ti aspettiamo. \nATTENZIONE: lo spettacolo è dedicato a un pubblico adulto. \nATTENZIONE: I biglietti sono acquistabili solo on-line\, non ci sarà la biglietteria fisica in loco.
URL:https://theclassicalexperience.com/eventi/a-night-with-walt-disney-2/
LOCATION:IBM Studios Milano\, Piazza Gae Aulenti\, Milano\, Milano\, 20124\, Italy
CATEGORIES:#TheClassicalExperience
ATTACH;FMTTYPE=image/jpeg:https://theclassicalexperience.com/wp-content/uploads/sites/6/2022/11/2022-11-28-A-night-with-Walt-Disney-Instagram-dedicato.jpg
ORGANIZER;CN="Milano Classica":MAILTO:info@milanoclassica.it
END:VEVENT
END:VCALENDAR